BEGIN:VCALENDAR
VERSION:2.0
METHOD:PUBLISH
CALSCALE:GREGORIAN
BEGIN:VEVENT
UID:1c24ebf2-5a58-417b-a870-89f3289d5d56
SEQUENCE:0
CLASS:PUBLIC
PRIORITY:5
DTSTAMP:20260424T172349Z
CREATED:20260424T172349Z
DTSTART:20260727T040000Z
DTEND:20260729T040000Z
TRANSP:1
SUMMARY:2026 Advanced Sales Forum
LOCATION:Hyatt Regency Savannah, Savannah, GA
DESCRIPTION:Rooted in Knowledge – Aligned for Growth
BEGIN:VALARM
TRIGGER:-PT30M
ACTION:DISPLAY
DESCRIPTION:Reminder
END:VALARM
END:VEVENT
END:VCALENDAR
