BEGIN:VCALENDAR
VERSION:2.0
METHOD:PUBLISH
CALSCALE:GREGORIAN
BEGIN:VEVENT
UID:c7e8312e-d2e7-4190-abe5-ccf9bf0555ee
SEQUENCE:0
CLASS:PUBLIC
PRIORITY:5
DTSTAMP:20260419T124553Z
CREATED:20260419T124553Z
DTSTART:20261006T143000Z
DTEND:20261009T163000Z
TRANSP:1
SUMMARY:Insurance Immersion, Fall 2026 (U.S.)
LOCATION:Virtual Classroom
DESCRIPTION:Live, Collaborative, Instructor-Led Program
BEGIN:VALARM
TRIGGER:-PT30M
ACTION:DISPLAY
DESCRIPTION:Reminder
END:VALARM
END:VEVENT
END:VCALENDAR
